BEGIN:VCALENDAR
VERSION:2.0
X-WR-TIMEZONE:Europe/Paris
PRODID:-//Audencia//NONSGML v1.0//EN
CALSCALE:GREGORIAN
BEGIN:VEVENT
SUMMARY:Borrel numero 2 du chapitre Pays-Bas
DTSTART:20180228T190000
DTEND:20180228T230000
UID:123
DTSTAMP:20260425T210005
LOCATION:de Biertuin Prinsengracht Prinsengracht 494, 1017 KH Amsterdam
DESCRIPTION:Goeie dag allemaal,\nRetrouvons-nous le 28 fevrier pour boire une biertje.\nRDV au Biertuin Prinsengracht\nPrinsengracht 494, 1017 KH Amsterdam\nTot ziens!
BEGIN:VALARM
ACTION:DISPLAY
TRIGGER:-PT60M
DESCRIPTION:Borrel numero 2 du chapitre Pays-Bas
END:VALARM
END:VEVENT
END:VCALENDAR