BEGIN:VCALENDAR
VERSION:2.0
X-WR-TIMEZONE:Europe/Paris
PRODID:-//Audencia//NONSGML v1.0//EN
CALSCALE:GREGORIAN
BEGIN:VEVENT
SUMMARY:Shanghai Alumni Afterwork#5
DTSTART:20180208T200000
DTEND:20180208T223000
UID:122
DTSTAMP:20260425T205951
LOCATION:UVA Wine Bar, 819 Shaanxi Bei Lu, near Kangding Lu, Jingan district 静安区陕西北路819号,近康定路
DESCRIPTION:Dear Alumni,\n\n\nTrust you are having a great start into the year of 2018!\nWe are going to have the first happy hour gathering of the year next Thursday Feb 8th starting 8 pm.\nCome join us for some wine & cold cuts, mingle and network!\nFeel free to bring a friend or two if that makes you feel more comfortable :)\n\nWhen: Thursday Feb 8th 2018\nWhere: UVA Wine Bar,   819 Shaanxi Bei Lu, near Kangding Lu, Jingan district 静安区陕西北路819号,近康定路\n\nIf you need more information or have fun ideas for future activities, please feel free to reach me via\nTel: +86 156 1838 6641\nWeChat: eugelahaut\n\nHope to see you there! Cheers!\nEugenia\n\n 
BEGIN:VALARM
ACTION:DISPLAY
TRIGGER:-PT60M
DESCRIPTION:Shanghai Alumni Afterwork#5
END:VALARM
END:VEVENT
END:VCALENDAR