BEGIN:VCALENDAR
VERSION:2.0
X-WR-TIMEZONE:Europe/Paris
PRODID:-//Audencia//NONSGML v1.0//EN
CALSCALE:GREGORIAN
BEGIN:VEVENT
SUMMARY:Poisson d'avril
DTSTART:20180417T193000
DTEND:20180417T230000
UID:120
DTSTAMP:20260425T210027
LOCATION:Restaurant "Pescheria", Fraunhoferstraße 13, 80469 München
DESCRIPTION:Chers Audenciens à Munich,\nA l'occasion du poisson d'avril, je vous invite dans le restaurant de poisson Pescheria (http://www.pescheria.de) pour un afterwork.\n\nInscrivez-vous vite! En-dessous de 5 participants; l'événement sera annulé.\n\nMerci de faire passer le message aux nouveaux arrivants.\n\nA bientôt\nAmandine
BEGIN:VALARM
ACTION:DISPLAY
TRIGGER:-PT60M
DESCRIPTION:Poisson d'avril
END:VALARM
END:VEVENT
END:VCALENDAR