BEGIN:VCALENDAR
VERSION:2.0
X-WR-TIMEZONE:Europe/Paris
PRODID:-//Audencia//NONSGML v1.0//EN
CALSCALE:GREGORIAN
BEGIN:VEVENT
SUMMARY:Run Audencia & Afterwork
DTSTART:20180130T193000
DTEND:20180130T220000
UID:119
DTSTAMP:20260425T205838
LOCATION:Le Max : 6, rue de la petite truanderie, 75001 Paris
DESCRIPTION:Les résolutions pour l'année 2018 ont été prises, continuons sur notre lancée avec un second Run Audencia en ce mois de janvier ! \n\nLes distances et les allures seront comme toujours adaptées pour les amateurs de running et les plus aguéris (8, 10 et 12 km). \n\nRendez-vous mardi 30 janvier à 19h30 au même endroit que d'habitude au bar Le Max à Châtelet. Vous pourrez y laisser vos affaires personnelles pendant l'effort et prendre un verre pour le reconfort ! \n\nA mardi :)\n 
BEGIN:VALARM
ACTION:DISPLAY
TRIGGER:-PT60M
DESCRIPTION:Run Audencia & Afterwork
END:VALARM
END:VEVENT
END:VCALENDAR