BEGIN:VCALENDAR
VERSION:2.0
X-WR-TIMEZONE:Europe/Paris
PRODID:-//Audencia//NONSGML v1.0//EN
CALSCALE:GREGORIAN
BEGIN:VEVENT
SUMMARY:Irish Pub
DTSTART:20180320T193000
DTEND:20180320T223000
UID:118
DTSTAMP:20260425T210007
LOCATION:Kennedys Bar & Restaurant Sendlinger-Tor-Platz 11, 80336 München
DESCRIPTION:Chers Audenciens à Munich,\nMars étant le mois de la St Patrick, je vous propose de nous retrouver pour un afterwork dans l'irish pub Kennedy's Bar & Restaurant à Sendlinger Tor (http://www.kennedysmunich.com).\n\nInscrivez-vous vite! En-dessous de 5 participants; l'événement sera annulé.\n\nMerci de faire passer le message aux nouveaux arrivants.\n\nA bientôt\nAmandine
BEGIN:VALARM
ACTION:DISPLAY
TRIGGER:-PT60M
DESCRIPTION:Irish Pub
END:VALARM
END:VEVENT
END:VCALENDAR