BEGIN:VCALENDAR
VERSION:2.0
X-WR-TIMEZONE:Europe/Paris
PRODID:-//Audencia//NONSGML v1.0//EN
CALSCALE:GREGORIAN
BEGIN:VEVENT
SUMMARY:Crêperie!
DTSTART:20180215T193000
DTEND:20180215T223000
UID:117
DTSTAMP:20260425T205905
LOCATION:Isabellastraße 4, 80798 München
DESCRIPTION:Chers Audenciens,\nFévrier étant le mois de la chandeleur, je vous propose de se retrouver à la crêperie Cabus près du U2 Josephsplatz.\n\nInscrivez-vous vite! En-dessous de 5 personnes, l'événement sera annulé.\nMerci de prévenir les nouveaux arrivants.\n\nA bientôt!\nAmandine
BEGIN:VALARM
ACTION:DISPLAY
TRIGGER:-PT60M
DESCRIPTION:Crêperie!
END:VALARM
END:VEVENT
END:VCALENDAR