BEGIN:VCALENDAR
VERSION:2.0
X-WR-TIMEZONE:Europe/Paris
PRODID:-//Audencia//NONSGML v1.0//EN
CALSCALE:GREGORIAN
BEGIN:VEVENT
SUMMARY:Lille - Afterwork 5
DTSTART:20180215T190000
DTEND:20180215T223000
UID:116
DTSTAMP:20260425T225143
LOCATION:Les 3 Brasseurs 22 Place de la Gare, 59800 Lille
DESCRIPTION:Bonjour à tous, \n\nIl est temps de vous proposer un nouvel Afterwork des Alumni du Nord : rendez-vous jeudi 15 février 2017, à partir de 19h00, pour se réunir autour d'un verre et échanger nos expériences de diplômés ou étudiants d'Audencia.\n\nLe lieu : LES 3 BRASSEURS, 22 Place de la gare 59800 LILLE\nJ'ai réservé une table, qui devrait être identifiée "Afterwork Chapter Lille"\nC'est à 2 pas de la Gare LILLE FLANDRES.\n\nPensez à vous inscrire ! Et passez le mot aux Alumni de votre entourage.   \n\nSi l'horaire de début est un peu trop tôt pour vous, ce n'est pas un souci, venez dès que vous pouvez. Envoyez-moi simplement un message que je sache quoi ;)\n\nN'hésitez pas à venir accompagné-e-s (conjoints, amis, collègues, on accepte tout le monde !)\n\nVotre ambassadeur, Cédric Foussard\n07.62.14.75.34
BEGIN:VALARM
ACTION:DISPLAY
TRIGGER:-PT60M
DESCRIPTION:Lille - Afterwork 5
END:VALARM
END:VEVENT
END:VCALENDAR