BEGIN:VCALENDAR
VERSION:2.0
X-WR-TIMEZONE:Europe/Paris
PRODID:-//Audencia//NONSGML v1.0//EN
CALSCALE:GREGORIAN
BEGIN:VEVENT
SUMMARY:L’édition d’œuvres d’art et de design : quel business modèle ?
DTSTART:20180214T190000
DTEND:20180214T210000
UID:115
DTSTAMP:20260425T205729
LOCATION:Fondation d'entreprise Ricard 12, rue Boissy d'Anglas, 75008 Paris
DESCRIPTION:Evènement payant: inscription obligatoire sur https://www.culture-et-management.com/debats/l_edition_d_uvres_d_art_et_de_design_quel_business_modele.html\n\nDès la fin du 19e siècle, les artistes s’emparent des nouveaux outils de la révolution industrielle pour développer de nouvelles techniques, permettant la reproductibilité en plusieurs exemplaires de leurs œuvres. Le mouvement de l’Art Déco a même comme ambition de concilier art et techniques industrielles. De ce double mouvement nait un nouveau type d’œuvres, et un nouveau marché : celui de l’édition d’œuvres d’art et de design.\n\nPour un public plus habitué à l’œuvre unique, c’est une difficulté méthodologique pas toujours facile à appréhender : comment une œuvre non créée des mains même de l’artiste peut-elle être une œuvre d’art ?\n\nD’un point de vue juridique, quelles sont les limites entre un objet industriel et une édition d’art ou de design ?\n\nD’un point de vue du marché de l’art, quelle valeur attribuer à ces œuvres dont le tirage peut varier de quelques unités à plusieurs milliers ?\n\nPour les éditeurs d’art, quelles sont les problématiques de fabrication, de marketing et de communication ? comment se passe le travail avec les artistes ? comment éduquer le marché à ces œuvres particulières ?\n\n\nModératrice\n\nJulia STRAUSS\nEspace Dali/Responsable marketing et communication, Secrétaire générale C&M\n \nNos intervenants débattront avec vous de toutes ces problématiques :\n\n- Bernard CHAUVEAU, Editeur & Galeriste, Galerie Bernard Chauveau\n- Flavien GAILLARD, Spécialiste au Département Design & Arts Décoratifs, Christie's\n- Pierre-Yves GAUTIER, Professeur en droit privé, Université Paris II Panthéon-Assas\n\nRéservez votre place dès maintenant sur le site : Culture et Management\n\nRAPPELS :\n\n- les débats commencent à 19h, l'accueil se fait à partir de 18h30.\n- le débat est ouvert à tous, tarif plein : 25 € - tarif réduit (chômeurs et étudiants) : 10 €\n- pour le règlement sur place, la CB n'est pas acceptée, mais vous pouvez régler par chèque ou en espèces.\n- si vous bénéficiez d'un tarif spécial (tarif chômeur), vous devrez nous présenter un justificatif de moins de 3 mois.
BEGIN:VALARM
ACTION:DISPLAY
TRIGGER:-PT60M
DESCRIPTION:L’édition d’œuvres d’art et de design : quel business modèle ?
END:VALARM
END:VEVENT
END:VCALENDAR