BEGIN:VCALENDAR
VERSION:2.0
X-WR-TIMEZONE:Europe/Paris
PRODID:-//Audencia//NONSGML v1.0//EN
CALSCALE:GREGORIAN
BEGIN:VEVENT
SUMMARY:Afterwork Audencia London N°1
DTSTART:20180215T190000
DTEND:20180215T210000
UID:114
DTSTAMP:20260425T205952
LOCATION:Hoop & Toy, 34 Thurloe Pl, Kensington, London SW7 2HQ
DESCRIPTION:Bonjour,\n\nBonne année! Let's start off 2018 on the right foot and meet for a few drinks on Thursday 15 February in the very much French borough of South Kensington at the Hoop & Toy.\n\nSee you all very soon.\n\nBien à vous,\n\nTristan Pelloux
BEGIN:VALARM
ACTION:DISPLAY
TRIGGER:-PT60M
DESCRIPTION:Afterwork Audencia London N°1
END:VALARM
END:VEVENT
END:VCALENDAR