BEGIN:VCALENDAR
VERSION:2.0
X-WR-TIMEZONE:Europe/Paris
PRODID:-//Audencia//NONSGML v1.0//EN
CALSCALE:GREGORIAN
BEGIN:VEVENT
SUMMARY:Europain 2018
DTSTART:20180203T090000
DTEND:20180206T150000
UID:113
DTSTAMP:20260425T205848
LOCATION:Parc des Expositions, Paris-Nord Villepinte - France
DESCRIPTION:Europain is an independent food industry event (Paris-Nord, Villepinte France 3rd to 6th February 2018). It anticipates attracting professionals involved in the food ingredients, restaurants, and pastry industry. \n\nIt can be a great place for us-Food Community members to network and chat. If you will be available, please indicate ;)\n\nFind out more about Europain HERE\n  
BEGIN:VALARM
ACTION:DISPLAY
TRIGGER:-PT60M
DESCRIPTION:Europain 2018
END:VALARM
END:VEVENT
END:VCALENDAR