BEGIN:VCALENDAR
VERSION:2.0
X-WR-TIMEZONE:Europe/Paris
PRODID:-//Audencia//NONSGML v1.0//EN
CALSCALE:GREGORIAN
BEGIN:VEVENT
SUMMARY:Conférence sur l'Intelligence Artificielle
DTSTART:20180130T183000
DTEND:20180130T210000
UID:112
DTSTAMP:20260425T205716
LOCATION:Impact Hub, Rue Fendt 1, 1201 - Genève
DESCRIPTION:\nL'équipe GEM Alumni vous propose une conférence suivie d'un buffet. Seulement 50 places disponibles, inscription obligatoires.\n\nSi vous pensez que l’intelligence artificielle est un buzzword, pensez à nouveau, elle est déjà parmi nous, chez vous, dans votre maison. Elle s’infiltre dans nos vies tous les jours, toutes les minutes et toutes les secondes sans que vous vous en aperceviez. Sommes-nous conscients de ce qu’il se trame ? Sommes-nous prêts pour cette 4ème révolution industrielle ? Est-il déjà trop tard ? Et qu’en est-il par rapport à son impact sur votre travail? Allons-nous vers une ère de licenciement de masse et de chaos professionnel ?\nVenez le découvrir avec Michel Guye-Bergeret le 30 Janvier 2018 à Impact Hub.\n\n\nInscription sur https://alumni.grenoble-em.com/agenda-geneve-gem-alumni-conference-intelligence-artificielle-jan-2018?lipi=urn%3Ali%3Apage%3Ad_flagship3_messaging_index%3BPPy0iH%2F5Rl%2BGCLB%2F98wosQ%3D%3D\n\n 
BEGIN:VALARM
ACTION:DISPLAY
TRIGGER:-PT60M
DESCRIPTION:Conférence sur l'Intelligence Artificielle
END:VALARM
END:VEVENT
END:VCALENDAR