BEGIN:VCALENDAR
VERSION:2.0
X-WR-TIMEZONE:Europe/Paris
PRODID:-//Audencia//NONSGML v1.0//EN
CALSCALE:GREGORIAN
BEGIN:VEVENT
SUMMARY:Afterwork à Geneve - Jeudi 8 mars dès 18h30 - Brasserie Da Matteo
DTSTART:20180308T183000
DTEND:20180308T235900
UID:110
DTSTAMP:20260425T205735
LOCATION:Brasserie Da Matteo - Rue du Stand, 50 - 1204 Genève
DESCRIPTION:Afterwork à Geneve - Jeudi 8 mars dès 18h30 - Brasserie Da Matteo \n\n\nPour bien commencer l’année, nous vous proposons de se retrouver pour un Afterwork à la:\nBrasserie Da Matteo - Rue du Stand, 50 -1204 Genève.  \n\nLes events 2018 qui animeront notre Réseau en Suisse Romande vous seront présentés !\nInvitez les Alumni et venez avec vos amis si vous voulez les inviter !\n\nNous serons ravis de vous retrouver pour ce networking.\nInscrivez-vous et nous réservons un espace à nous en conséquence.\n\nA bientot !\nhttp://www.brasseriedamatteo.com/\n 
BEGIN:VALARM
ACTION:DISPLAY
TRIGGER:-PT60M
DESCRIPTION:Afterwork à Geneve - Jeudi 8 mars dès 18h30 - Brasserie Da Matteo
END:VALARM
END:VEVENT
END:VCALENDAR