BEGIN:VCALENDAR
VERSION:2.0
X-WR-TIMEZONE:Europe/Paris
PRODID:-//Audencia//NONSGML v1.0//EN
CALSCALE:GREGORIAN
BEGIN:VEVENT
SUMMARY:le festival comme outil de développement territorial : la fin d’un modèle ?
DTSTART:20180124T190000
DTEND:20180124T210000
UID:109
DTSTAMP:20260425T205904
LOCATION:Fondation d'entreprise Ricard - 12, rue Boissy d'Anglas, 75008 Paris
DESCRIPTION:Evènement payant: inscription obligatoire sur https://www.culture-et-management.com/debats/le_festival_comme_outil_de_developpement_territorial_la_fin_d_un_modele.html\n\nLes festivals (principalement de spectacle vivant – danse, théâtre, arts de la rue, musique – mais pas seulement : cinéma, littérature…) ont plusieurs buts : porter une ligne artistique particulière, créer un temps fort dans une programmation ou sur un territoire donné, attirer un public différent des abonnés et habitués des salles, en bref avoir un impact et une visibilité accrue grâce à un événement à fort retentissement. C’est pourquoi les Festivals sont intégrés dans les politiques de mise en valeur du territoire : en participant fortement à l’image culturelle de celui-ci, il contribue à son attractivité. Certains Festivals sont même intimement liés aux villes qui les accueillent : Avignon, Belfort, Cannes, Angoulême, Bourges… sont autant d’exemples dans lesquels les festivals ont été de formidables outils de développement territorial.\n\nMais ce modèle est aujourd’hui remis en cause. Plusieurs facteurs sont évoqués : une offre de festivals (trop ?) pléthorique, des finances menacées, l'émergence de nouveaux acteurs. Est-ce vraiment le cas ?\n\nNos intervenants débattront avec vous de toutes ces problématiques.\n\n\nIntervenants\n\n- Auguste COUDRAY, directeur communication et RP Bretagne de Yves Rocher et président du Festival Photo La Gacilly\n- Virginie DE CROZE, directrice de la communication et des RP du Festival d'Avignon\n- Nicolas DHERS, président de l'association Smmmile\n\nModérateurs\n\nVincent DOUAIRE / Administrateur du Festival Théâtral du Val d'Oise / Responsable emploi C&M
BEGIN:VALARM
ACTION:DISPLAY
TRIGGER:-PT60M
DESCRIPTION:le festival comme outil de développement territorial : la fin d’un modèle ?
END:VALARM
END:VEVENT
END:VCALENDAR