BEGIN:VCALENDAR
VERSION:2.0
X-WR-TIMEZONE:Europe/Paris
PRODID:-//Audencia//NONSGML v1.0//EN
CALSCALE:GREGORIAN
BEGIN:VEVENT
SUMMARY:Table ronde « L'évolution du sport féminin »
DTSTART:20180122T173000
DTEND:20180122T203000
UID:108
DTSTAMP:20260425T205853
LOCATION:Audencia - Campus Paris 95A rue Falguière 75015 Paris
DESCRIPTION:Après une première table ronde en octobre dernier sur les relations entre digital et sport, une seconde table ronde aura lieu le 22 janvier à 17h30 pour faire un état des lieux du sport féminin et discuter sur ses perspectives de développement.\n\n12 places sont ouvertes aux personnes extérieures à l’actuelle promotion du MOS et elles seront pour les 12 premiers inscrits.\n\nLes intervenants de la soirée seront :\n\n\n	Aurélie BRESSON : fondatrice et CEO de « Les Sportives Magazine »\n	Alexandra FOURNIER-BIDOZ : ancienne sportive de haut niveau en athlétisme, actuellement Business developer en Sport Business chez Deloitte France\n	Pascal GOUZENES : entraîneur de l’équipe féminine de football en D1 au « Paris FC féminines »\n\n \nModérateurs : les 4 étudiants de l’atelier « Table Ronde » de la promotion 2017-2018 du MOS avec Anna Gerke, responsable du Master spécialisé « Management des Organisations de Sport » d’Audencia Business School\n\nParticipants : étudiants du Master Spécialisé « Management des Organisations de Sport » et du Master Spécialisé « Business Development » ainsi que 12 places pour des diplômés du MOS\n 
BEGIN:VALARM
ACTION:DISPLAY
TRIGGER:-PT60M
DESCRIPTION:Table ronde « L'évolution du sport féminin »
END:VALARM
END:VEVENT
END:VCALENDAR