BEGIN:VCALENDAR
VERSION:2.0
X-WR-TIMEZONE:Europe/Paris
PRODID:-//Audencia//NONSGML v1.0//EN
CALSCALE:GREGORIAN
BEGIN:VEVENT
SUMMARY:Dublin Afterwork
DTSTART:20180124T183000
DTEND:20180124T223000
UID:107
DTSTAMP:20260425T205949
LOCATION:Dublin
DESCRIPTION:Dear Audencia Alumni,\n\n\nI hope you all enjoyed some well deserved holidays and I wish you all a very happy new year !\n\nI am happy to invite you all to our next Audencia Alumni Get Together, which will happen on Wednesday, January 24th. This will be a very special afterwork, as we will host a class of 15 students from Audencia during their learning expedition in Dublin, and I'm sure they will all be very eager to learn more about the buzzing tech / job scene of Dublin.\n\nAs usual, I only need you to fill in this short survey: https://goo.gl/forms/j4wJBdxiOpgePZ5T2\n\nPlease don't hesitate to contact me if you have any questions.\n\nBest,\nBrice\n\nP.S.: Location to be confirmed later depending on the number of attendees, please drop me your address mail in the form
BEGIN:VALARM
ACTION:DISPLAY
TRIGGER:-PT60M
DESCRIPTION:Dublin Afterwork
END:VALARM
END:VEVENT
END:VCALENDAR