BEGIN:VCALENDAR
VERSION:2.0
X-WR-TIMEZONE:Europe/Paris
PRODID:-//Audencia//NONSGML v1.0//EN
CALSCALE:GREGORIAN
BEGIN:VEVENT
SUMMARY:AFTERWORK APERITIF IN DUBAI
DTSTART:20180213T190000
DTEND:20180213T210000
UID:106
DTSTAMP:20260425T210003
LOCATION:Grapeskin, wine bar in CITYWALK
DESCRIPTION:Chers Audenciens de Dubai,\n\nLet's kick off 2018 with a good resolution : meet up with Audencia alumni for an informal afterwork gathering !\n\nwhere : from 7 pm @ Grapeskin, wine bar in CITYWALK \n\nWhy : because we are looking forward to meeting all audencia alumni living in Dubai and know more about your expectations on networking while having a drink!\n\nLooking forward to meeting you,\nCharlie (charlie.cassamchenai@ferrero.com), Clémence (clukowski@astek-international.com) et Audrey (audrey.teppe@fbcdubai.com)\n 
BEGIN:VALARM
ACTION:DISPLAY
TRIGGER:-PT60M
DESCRIPTION:AFTERWORK APERITIF IN DUBAI
END:VALARM
END:VEVENT
END:VCALENDAR