BEGIN:VCALENDAR
VERSION:2.0
X-WR-TIMEZONE:Europe/Paris
PRODID:-//Audencia//NONSGML v1.0//EN
CALSCALE:GREGORIAN
BEGIN:VEVENT
SUMMARY:Galette des rois!
DTSTART:20180113T153000
DTEND:20180113T180000
UID:105
DTSTAMP:20260425T205948
LOCATION:Boulangerie Claude et Julien, Elsässerstraße 25, 81667 Munich
DESCRIPTION:Bonjour à tous,\n\nvous avez manqué la galette des rois cette année? Vous ne pouvez plus vous en passer?\n\nRejoignez-nous à la boulangerie ouverte par notre alumni Claude Petit-Jean, près de Ostbahnhof pour une dégustation Audencia! Claude nous offre la galette, chacun payera ses consos.\n\nInscrivez-vous vite! En-dessous de 5 participants, l'événement sera annulé.\nMerci de faire passer le mot aux nouveaux arrivants.\n\nA bientôt\nAmandine
BEGIN:VALARM
ACTION:DISPLAY
TRIGGER:-PT60M
DESCRIPTION:Galette des rois!
END:VALARM
END:VEVENT
END:VCALENDAR