BEGIN:VCALENDAR
VERSION:2.0
X-WR-TIMEZONE:Europe/Paris
PRODID:-//Audencia//NONSGML v1.0//EN
CALSCALE:GREGORIAN
BEGIN:VEVENT
SUMMARY:Afterwork Janvier 2018 - Brasserie AUGUSTINER KLOSTERWIRT
DTSTART:20180125T190000
DTEND:20180125T220000
UID:104
DTSTAMP:20260425T205727
LOCATION:Augustiner Klosterwirt
DESCRIPTION:MISE A JOUR 21.1.18: changement de lieu, nous irons au Augustiner Klosterwirt.\nSi certains veulent se joindre à nous, merci de me contacter en mp car j'ai déjà réservé pour les 8 inscrits.\nA bientôt,\nAmandine\n............................................................;\n\nAudenciens munichois,\nStagiaires, CDD, VIE,\nde passage ou installés,\n\nJe vous souhaite une bonne année à tous, et vous propose de nous retrouver pour un afterwork le jeudi 25 janvier dans la brasserie bavaroise Augustiner Klosterwirt vers Marienplatz pour discuter et faire connaissance.\n\nPlus d'infos sur https://www.augustiner-klosterwirt.de\n\nInscrivez-vous vite! En-dessous de 5 participants, l'événement sera annulé.\n\nMerci de faire passer le mot aux nouveaux arrivants.\n\nA bientôt\nAmandine
BEGIN:VALARM
ACTION:DISPLAY
TRIGGER:-PT60M
DESCRIPTION:Afterwork Janvier 2018 - Brasserie AUGUSTINER KLOSTERWIRT
END:VALARM
END:VEVENT
END:VCALENDAR