BEGIN:VCALENDAR
VERSION:2.0
X-WR-TIMEZONE:Europe/Paris
PRODID:-//Audencia//NONSGML v1.0//EN
CALSCALE:GREGORIAN
BEGIN:VEVENT
SUMMARY:Run Audencia & Afterwork de rentrée !
DTSTART:20180109T193000
DTEND:20180109T213000
UID:103
DTSTAMP:20260425T205731
LOCATION:Bar Le Max
DESCRIPTION:2017 c'est fini, les fêtes aussi alors on rechausse ses baskets pour ce Run Audencia de rentrée, le premier de 2018 !\n\nQue ce soit pour tenir vos bonnes résolutions ou juste parce que vous aimez courir, ce run est pour vous. On fait généralement 8km, on ne perd personne et c'est sympa ;)\n\nEtudiant, alumni, ou ami de Run Audencia, vous êtes tous et toutes les bienvenus.\nRDV, mardi 9 janvier à 19h30, au bar Le Max (Châtelet), où vous pouvez laisser vos effets personnels pendant le run, prendre un verre et manger ensuite :)
BEGIN:VALARM
ACTION:DISPLAY
TRIGGER:-PT60M
DESCRIPTION:Run Audencia & Afterwork de rentrée !
END:VALARM
END:VEVENT
END:VCALENDAR