BEGIN:VCALENDAR
VERSION:2.0
X-WR-TIMEZONE:Europe/Paris
PRODID:-//Audencia//NONSGML v1.0//EN
CALSCALE:GREGORIAN
BEGIN:VEVENT
SUMMARY:Audencia Alumni In Singapore - 2nd event
DTSTART:20170321T190000
DTEND:20170321T220000
UID:10
DTSTAMP:20260425T205715
LOCATION:Wine Connection bar – 25 Church Street, #01-01 Capital Square 3, Singapore 049482.
DESCRIPTION:Audencia Alumni in Singapore > Event on March 21st - 7pm at Wine Connection Bar\n\nThe Singapore Chapter is inviting you to a new event on March 21st - 7.00pm at Wine Connection bar – 25 Church Street, #01-01 Capital Square 3, Singapore 049482.\n\nThis is a great opportunity to network, reconnect and also share about good memories at Audencia.\nFeel free to share this invitation with our other Audencia Alumni fellows in Singapore and we hope to see a lot of you for this second event.\n\nPlease confirm your participation and don’t forget to join our new Facebook page "Audencia Alumni In Singapore" to receive the invitations for the next events.\nSee you soon!\n\nYour Audencia Chapter for Singapore\nJosselin, Aurelie & Charles-Antoine\n \n \n 
BEGIN:VALARM
ACTION:DISPLAY
TRIGGER:-PT60M
DESCRIPTION:Audencia Alumni In Singapore - 2nd event
END:VALARM
END:VEVENT
END:VCALENDAR