BEGIN:VCALENDAR
VERSION:2.0
X-WR-TIMEZONE:Europe/Paris
PRODID:-//Audencia//NONSGML v1.0//EN
CALSCALE:GREGORIAN
BEGIN:VEVENT
SUMMARY:Retrospective des événements de la communauté Chapter Nantes
DTSTART:20170226T090000
DTEND:20170226T180000
UID:1
DTSTAMP:20260425T205703
LOCATION:Nantes
DESCRIPTION:Le Chapter Nantes est né en juin 2015 de la fusion des Clubs qui existaient à ce moment-là : Club Golf, Club RH, Club Gourmet, Audencia pour Elles. Voici une rapide rétrospective de des principaux événements organiséspar sur les deux dernières années (2015-2016).\n \nClub RH \n\n\n	23/01/2015 - Digitalisation des entreprises, do or die ! Enjeux, moyens, plan d'action : le rôle central des DRH\n\n\nBien engagés dans la troisième révolution industrielle, nos entreprises sont désormais digitales : le Web 2.0, les outils SAS, les web conférences, l'interconnexion sont utilisées pour accepter le décloisonnement et l’agilité, faire évoluer la gouvernance, bousculer l’entreprise,développer le CA, créer de la valeur, renouveler l’expérience et la relation client, imaginer de nouvelle offres, rationaliser les processus.\n\nDerrière ces techniques, il y a des hommes et des femmes, génération X, Y ou Z, techno natifs ou pas, qui doivent s'adapter aux nouveaux SIRH, se former par du E-Learning, des MOOCS, changer leur culture, développer/valoriser de nouveaux savoirs. \n\nLe DRH en particulier est sommé de mettre en place et animer le plan de transformation de l'entreprise et dans le même temps d'améliorer le bonheur au travail.\n54 participants\n\nintervenants :\n\n\n	\n		\n			\n			 \n			\n			Arnaud Chaigneau (Audencia GE 00)\n\n			Directeur associé | Personae User Lab\n			Membre du NUMA\n			\n		\n		\n			\n			\n			\n			\n			\n			 \n			\n			\n			Rémy Griffon (Audencia GE 90)\n\n			DRH | MAN diesel & turbo France\n			\n		\n		\n			\n			\n			\n			\n			 \n			\n			\n			Tanguy Morvan\n\n			DRH | Banque Populaire Atlantique\n			\n		\n	\n\n\n \n\n\n	02/10/2015 - Table-ronde : Devenir acteur de sa formation professionnelle\n\n\nUn jour, nous avons choisi Audencia comme tremplin vers la vie professionnelle en partie sur la base de critères académiques. Et depuis ce jour ? Une formation sur un nouvel outil par-ci, une mise à jour légale par-là ,un séminaire de team building parfois… : des formations choisies par le manager pour le bien être de l’entreprise. \n\nEt pour nous, quels choix de formation avons-nous fait ? Savons-nous comment demander, quoi demander, quand demander ?A l’heure du compte professionnel de formation, alors que la formation est stratégique pour notre société et nos entreprises, comment s’y retrouver dans les organismes, les financements ?\n\nSi vous voulez reprendre en main votre destin, venez échanger avec nos intervenants. Vous serez ainsi prêts pour oser… \nIntervenants : \n\n\n	\n		\n			 \n			 \n			\n			William Hurst\n\n			Directeur de la Formation Continue\n			Audencia Group\n			\n		\n		\n			\n			 \n			\n			\n			 \n			\n			\n			 \n			\n		\n		\n			\n			 \n			\n			\n			 \n			\n			\n			Jean-Paul Raillard\n\n			Consultant senior et ex-Directeur\n			Cabinet Syndex\n\n			 \n			\n		\n		\n			\n			 \n			\n			\n			 \n			\n			\n			 \n			\n		\n		\n			\n			\n			\n			\n			 \n			\n			\n			Edwige Laventure\n\n			Directrice du département accompagnement à la performance \n			Banque Populaire Atlantique\n			\n		\n	\n\n\n27 participants \n \n\nClub Gourmet\n\n\n	28/01/2015 : Galette des rois au concept store Sugar Blue Café .\n\nDégustation des jus de fruits à base d'hibiscus de la start-up audencienne CHOOKA incubée par l'incubateur Audencia-Centrale-ENSA. \n15 participants\n \n\n	5/03/2015 : Cours de pâtisserie  - Mignardises de Vincent Guerlais\n\n\nPrendre des cours de pâtisserie avec l'un des meilleurs artisans chef pâtissier de Nantes, c'est possible ! Vincent Guerlais, qui tient la célèbre chocolaterie de la rue Franklin à Nantes depuis plus de dix ans, propose de partager son savoir-faire via la réalisation d'éclairs et macarons, mignardises et pâte feuilletée qu'on croyait réservés à une sphère d'élus et intouchables...\n10 participants\n\n\n	09/04/2016 : Atelier des chefs Nantes - Cours de cuisine : Little Italy\n\n\nRedécouvrez le terroir de la botte italienne en jonglant avec des techniques incontournables.\nVenez sublimer les produits phares de l’Italie : tomate, pasta, risotto, fruits de mer, gorgonzola... seront les stars de votre cours de cuisine.\n12 participants\n\n\n	25/06/2015 : Ouch, la croisière apéritive au fil de l'Erdre - Quoi de plus convivial que l’apéritif et de plus original qu’un bateau !\n\n\nAu départ du ponton du bassin Saint Félix, au pied de la Cité des Congrès, découvrez le bateau Ouch réaménagé par le collectif Fichtre et embarquez pour une croisière à l’heure de l’apéro.Vous passerez par le tunnel Saint Félix, longerez l’île de Versailles et remonterez tranquillement l’Erdre.  Laissez-vous aller à la magie particulière de l’atmosphère.\n\nUn apéritif composé d'une carte de vins (en collaboration avec les Vignes de Nantes) et des petites grignottes (saucissons, rillettes de poissons, olives …) vous accompagnera à bord. L’ambiance décontractée de cette croisière suscite l’échange et la convivialité ; le spectacle de l’Erdre s’impose de lui-même.\n18 participants\n\n\n	24/09/2015 - Soirée oenologie : autour du muscadet - "Nul n'est prophète en son pays", c'est ainsi que l'on peut parler du Muscadet à Nantes.\n\n\nTout le monde en a goûté, peu ont adoré, et pourtant quelle diversité de sols, de richesse et de producteurs amoureux de leur métier... Le Muscadet constitue la plus grande appellation de blanc en France !\n\nVenez le découvrir ou redécouvrir avec l'oenologue Béatrice Dominé.\n10 participants\n \n\nAudencia Pour Elles \n\n \n\n\n	13/03/2015 - L'entrepreneuriat au féminin : quelle place pour demain ? \n\n\nUn événement des Clubs Audencia pour Elles et Entrepreneurs Nantes\n\nAlors que le taux d’entrepreneuriat féminin reste très inférieur à celui des hommes, le nombre de projets portés par des femmes et accompagnés par Symbiose, l’incubateur d’Audencia Groupe et de l’Ecole Centrale de Nantes, a fortement augmenté cette année.\nNous souhaitons nous demander quelles envies d’entreprendre ont nos étudiantes ?\nExiste-t-il des moteurs spécifiques à l’entreprenariat au féminin ? Comment faire avancer l’Entrepreneuriat au féminin ? L’enjeu économique et social ne doit il pas amener une véritable réflexion sur les freins, mais aussi sur les appuis nécessaire au développement de l’entrepreneuriat féminin ?\n59 participants\n\nAvec les interventions de :\n\n\n	\n		\n			\n			 \n			\n			Sylvie Casenave-Pere (GE 81)\n\n			P-DG | POSSON PACKAGING\n			\n		\n		\n			\n			 \n			\n			\n			 \n			\n			\n			 \n			\n		\n		\n			\n			\n			\n			\n			 \n			\n			\n			Carole Boutet (GE 97)\n\n			Fondatrice | BOUGER EN FAMILLE.COM\n			\n		\n		\n			\n			 \n			\n			\n			 \n			\n			\n			 \n			\n		\n		\n			\n			\n			\n			\n			 \n			\n			\n			Marlène Blaise (GE 16)\n\n			Co-fondatrice | WE DO GOOD\n			\n		\n		\n			\n			 \n			\n			\n			 \n			\n			\n			 \n			\n		\n		\n			\n			\n			\n			\n			 \n			\n			\n			Juliette Chanfreau (GE 15)\n\n			Fondatrice | BIG BANANA RADIO\n			\n		\n	\n\n \n\n\n	01/07/2015 : Dîner Audencia pour Elles - mais pas que !\n\n\nFavoriser le développement des carrières des diplômées Audencia, encourager les échanges et la solidarité entre elles et développer le réseau, participer activement au débat sur la place des femmes dans l’économie et contribuer à l’égalité hommes/femmes dans les entreprises et les organisations, sont autant de missions pour le Club.\nNos valeurs : partage, ambition et engagement.\nAlors, si vous vous retrouvez dans ce projet, étudiantes comme diplômées, venez nous retrouver à l'occasion de ce dîner Réseau tournant (rotation des places entre chaque plat).\n22 participants\n\n\n	20/11/2015 : Table-ronde : Et si j'osais ...?\n\n\nRêves réalisés comme opportunités saisies, elles ont changé de voie et d'environnement professionnel. Découvrez leur témoignage et comment leur bagage Audencia les suit dans cette nouvelle vie.\n39 participants\n\n\n	\n		\n			 \n			 \n			\n			Véronique Chavigny-Bouquet (GE 93)\n\n			 \n\n			Sophro-analyste, formatrice en entreprise et thérapeute individuelle.\n			Véronique s’est reconvertie après 7 ans en entreprise dans des fonctions marketing et commerciales internationales. \n			Elle travaille aujourd'hui notamment sur le burn-out et a créé l’espace Floréal, espace partagé de thérapeutes.\n			\n		\n		\n			 \n			 \n			 \n		\n		\n			\n			 \n			\n			Charlotte Herbeau (GE 03)\n\n			 \n\n			Comédienne, elle a notamment joué dans CHOCOLAT (Roschdy Zem), Papa ou Maman (Martin Bourboulon), ELLE L´ADORE (Jeanne Herry), LUCY (Luc Besson) ou YVES SAINT LAURENT (Bertrand Bonello).\n			\n		\n		\n			 \n			 \n			 \n		\n		\n			 \n			 \n			\n			Déborah Heurtematte (GE 13)\n\n			 \n\n			Contrôleuse de gestion événementiel culturel, mécénat et droit du spectacle à la Cité des Congrès Nantes et co-fondatrice et Présidente de l'association "La troupe Permanantes"\n\n			"La Troupe Permanantes" est une jeune association qui a pour double objectif de créer une troupe de comédie musicale amateur à Nantes et d'y produire un festival professionnel de comédie musicale.\n\n			 \n			\n		\n		\n			 \n			 \n			 \n		\n		\n			\n			 \n			\n			Céline Legrand\n\n			 \n\n			Professeur associé à Audencia, certifiée MBTI, Céline apportera son regard extérieur sur ce choix de "si j'osais" par la connaissance et l'acceptation de soi dans son approche personnelle et professionnelle.\n			\n		\n	\n\n \n\nClub Golf\n\n12/06/2015 : 10 ans du Club Golf  - Trophée scramble à 3, initiation et cocktail\n \nLe Club Golf Nantes Audencia Alumni a le plaisir de convier initiés, amateurs et curieux, à un trophée exceptionnel à l’occasion de ses 10 ans ! \nDans le prestigieux cadre du domaine de la Bretesche, nous vous donnons rendez-vous le vendredi 12 juin avec notamment :\n- Un environnement de jeu exceptionnel.\n- Une remise des prix avec de très belles dotations au tirage au sort.\n- Un cocktail au prestigieux Club House.\nNous vous espérons nombreux pour ce beau moment avant l’été  et vous proposons un hébergement facilité pour les éloignés (Hôtel de la Bretesche sur place, Villa Flornoy à Pornichet).\n61 participants\n\nAfterworks\n26/03/2015 : Les Charbonniers - 19 inscrits\n29/04/2015 : Graslin de Folie - 23 insctits\n03/06/2015 : Vertigo Skybar - 14 inscrits\n01/10/2015 : Au Bureau - 66 inscrits\n15/10/2016 : Le Bar Rouge - Soirée spéciale Alumni - A l'occasion du Forum Entreprises d'Audencia des 15 & 16 octobre - 55 inscrits\n18/11/2015 : Au Bureau - 28 inscrits\n25/02/1016 : Afterwork spécial à l'occasion de l'inauguration de l'Audencia Alumni Corner - Le lieu dédié pour les diplômés au sein d'Audencia Business School - 35 inscrits\n31/03/2016 : Cour 87 - 14 inscrits\n28/04/2016 : Le Lieu Unique - 46 incrits\n25/04/2016 : Vertigo Skybar - 18 inscrits\n13/10/2016 : Au Bureau -  27 inscrits\n15/12/2016 : Au Gattino - 12 inscrits\n\nVisites d'entreprises \n\n\n	22/04/2016 : Visite de l'imprimerie Goubault\n\n\n7h45, c'est un peu tôt comme horaire de rendez-vous, surtout un vendredi, c'est néanmoins l'heure idéale pour vous plonger au coeur de l'effervescence de l'imprimerie Goubault.\n15 participants\n\n\n	24/11/2016 : Visiste de l'entreprise EMOTIC \n\n\nBasé à Nantes et Paris, EMOTIC® propose de vous ouvrir ses portes le 24 novembre dès 18h30...   L'heure idéale pour vous plonger au coeur de l'effervescence d'EMOTIC!  Venez découvrir les coulisses de cette agence spécialisée dans la transformation digitale au travers des interfaces innovantes et nouvelles technologies, à l'occasion d'une visite dédiée.\n\nRencontrez son équipe pluridisciplinaire, constituée de designers ergonomes, UX designers, d’ingénieurs en développement « nouvelles technologies », d’ingénieurs « hardware» et de chefs de projet.\n\nL’ADN d’EMOTIC® repose dans sa forte composante innovation afin de simplifier les interactions entre l’utilisateur et l’interface. Depuis maintenant 10 ans, l'agence se positionne comme un acteur incontournable dans le domaine des interfaces naturelles et innovantes (Natural User Interface), avec un temps d’apprentissage le plus court possible et une expérience utilisateur la meilleure.\n\nL'expertise de l'agence recouvre entre autres les technologies gesture, sans-contact, géolocalisation et multitouch.\n\nLa visite se composera de 3 parties :\n\n\n	\n	Présentation d’EMOTIC et de ses activités\n	\n	\n	Présentation des locaux et la forme d’organisation de la société ainsi que des aspects bien-être au travail\n	\n	Démonstration et essais de concepts (tactile, identification sans contact, réalité virtuelle, réalité augmentée …)\n\n\n​23 participants\n\nAccueil des Assesseurs\nA l'occasion des Jurys d'entrée à l4ecole, de nombreux diplômés reviennent à Nantes . Le Chapter Nantes a décidé de ne pas les abondonner, seuls, le soir, et de leur proposer des Dîners ou des Afterworks à cette occasion.\n16/06/2015 : Dîner Réseau -  15 personnes\n22 - 23 - 29 /06/2016 : Afterwork & Accueil des Alumni Assesseurs - 20 participants\n\n \nDivers \n29/01/2015 - La Folle Journée - Le Messie de Haendel\nRéduction de 50% pour les adhérents Audencia Alumni \n9 personnes\n\n\n \n \n\n\n\n\n\n \n\n\nClub Golf:\n 
BEGIN:VALARM
ACTION:DISPLAY
TRIGGER:-PT60M
DESCRIPTION:Retrospective des événements de la communauté Chapter Nantes
END:VALARM
END:VEVENT
END:VCALENDAR